BEGIN:VCALENDAR
VERSION:2.0
PRODID:-//CERN//INDICO//EN
BEGIN:VEVENT
SUMMARY:Lecture 7. Advanced theory of GEP Scenario Generator (OnSSET)
DTSTART;VALUE=DATE-TIME:20190618T070000Z
DTEND;VALUE=DATE-TIME:20190618T081500Z
DTSTAMP;VALUE=DATE-TIME:20240229T221550Z
UID:indico-contribution-8-0-25@ictp.it
DESCRIPTION:Speakers: \nThis lecture explains in detail how the GEP Scenar
 io Generator – OnSSET functions\, the inputs of the tool and the methods
  that are built in to calculate the LCOE of all technologies.\n\n//indico.
 ictp.it/event/8751/session/8/contribution/25
LOCATION: Adriatico Guest House - InfoLab
URL://indico.ictp.it/event/8751/session/8/contribution/25
END:VEVENT
BEGIN:VEVENT
SUMMARY:Lecture 7. Advanced theory of GEP Scenario Generator (OnSSET)
DTSTART;VALUE=DATE-TIME:20190618T084500Z
DTEND;VALUE=DATE-TIME:20190618T100000Z
DTSTAMP;VALUE=DATE-TIME:20240229T221550Z
UID:indico-contribution-8-0-26@ictp.it
DESCRIPTION:Speakers: \n//indico.ictp.it/event/8751/session/8/contribution
 /26
LOCATION: Adriatico Guest House - InfoLab
URL://indico.ictp.it/event/8751/session/8/contribution/26
END:VEVENT
BEGIN:VEVENT
SUMMARY:Exercise 8: Setting up and exploring electrification scenarios for
  a country
DTSTART;VALUE=DATE-TIME:20190618T110000Z
DTEND;VALUE=DATE-TIME:20190618T131500Z
DTSTAMP;VALUE=DATE-TIME:20240229T221550Z
UID:indico-contribution-8-0-54@ictp.it
DESCRIPTION:Speakers: \nIn this exercise the participants will use the kno
 wledge gained from the lectures and exercises to develop a tailored geospa
 tial electrification analysis and presentation for their country.\n\n//ind
 ico.ictp.it/event/8751/session/8/contribution/54
LOCATION: Adriatico Guest House InfoLab
URL://indico.ictp.it/event/8751/session/8/contribution/54
END:VEVENT
BEGIN:VEVENT
SUMMARY:Exercise 8: Setting up and exploring electrification scenarios for
  a country
DTSTART;VALUE=DATE-TIME:20190618T134500Z
DTEND;VALUE=DATE-TIME:20190618T150000Z
DTSTAMP;VALUE=DATE-TIME:20240229T221550Z
UID:indico-contribution-8-0-27@ictp.it
DESCRIPTION:Speakers: \nIn this exercise the participants will use the kno
 wledge gained from the lectures and exercises to develop a tailored geospa
 tial electrification analysis and presentation for their country.\n\n//ind
 ico.ictp.it/event/8751/session/8/contribution/27
LOCATION: Adriatico Guest House - InfoLab
URL://indico.ictp.it/event/8751/session/8/contribution/27
END:VEVENT
END:VCALENDAR
