BEGIN:VCALENDAR
VERSION:2.0
PRODID:-//CERN//INDICO//EN
BEGIN:VEVENT
SUMMARY:Talk. Vitrification programme in China
DTSTART;VALUE=DATE-TIME:20190924T113000Z
DTEND;VALUE=DATE-TIME:20190924T121500Z
DTSTAMP;VALUE=DATE-TIME:20240229T211608Z
UID:indico-contribution-57@ictp.it
DESCRIPTION:Speakers: K. XU (State Key Laboratory of Silicate Materials fo
 r Architectures\, Wuhan University\, P.R. China)\n//indico.ictp.it/event/8
 772/session/6/contribution/57
LOCATION:ICTP Adriatico Guest House - Giambiagi Lecture Hall
URL://indico.ictp.it/event/8772/session/6/contribution/57
END:VEVENT
END:VCALENDAR
