BEGIN:VCALENDAR
VERSION:2.0
PRODID:-//CERN//INDICO//EN
BEGIN:VEVENT
SUMMARY:Participant Talk
DTSTART;VALUE=DATE-TIME:20190924T133500Z
DTEND;VALUE=DATE-TIME:20190924T135500Z
DTSTAMP;VALUE=DATE-TIME:20240229T211517Z
UID:indico-contribution-60@ictp.it
DESCRIPTION:Speakers: A. MAGHSOUDIPOUR ()\n//indico.ictp.it/event/8772/ses
 sion/6/contribution/60
LOCATION:ICTP Adriatico Guest House - Giambiagi Lecture Hall
URL://indico.ictp.it/event/8772/session/6/contribution/60
END:VEVENT
END:VCALENDAR
