BEGIN:VCALENDAR
VERSION:2.0
PRODID:-//CERN//INDICO//EN
BEGIN:VEVENT
SUMMARY:Talk: Irradiation damage (experimental)
DTSTART;VALUE=DATE-TIME:20190926T113000Z
DTEND;VALUE=DATE-TIME:20190926T121500Z
DTSTAMP;VALUE=DATE-TIME:20240229T211557Z
UID:indico-contribution-77@ictp.it
DESCRIPTION:Speakers: ANAMUL HAP MIR (University of Huddersfield\, United 
 Kingdom)\n//indico.ictp.it/event/8772/session/8/contribution/77
LOCATION:ICTP Adriatico Guest House - Giambiagi Lecture Hall
URL://indico.ictp.it/event/8772/session/8/contribution/77
END:VEVENT
END:VCALENDAR
