BEGIN:VCALENDAR
VERSION:2.0
PRODID:-//CERN//INDICO//EN
BEGIN:VEVENT
SUMMARY:CLOSURE SESSION / FEEDBACK
DTSTART;VALUE=DATE-TIME:20190927T093000Z
DTEND;VALUE=DATE-TIME:20190927T101500Z
DTSTAMP;VALUE=DATE-TIME:20240229T211702Z
UID:indico-contribution-86@ictp.it
DESCRIPTION:Speakers: \n//indico.ictp.it/event/8772/session/9/contribution
 /86
LOCATION:ICTP Adriatico Guest House - Giambiagi Lecture Hall
URL://indico.ictp.it/event/8772/session/9/contribution/86
END:VEVENT
END:VCALENDAR
