BEGIN:VCALENDAR
VERSION:2.0
PRODID:-//CERN//INDICO//EN
BEGIN:VEVENT
SUMMARY:REGISTRATION & ADMINISTRATIVE FORMALITIES
DTSTART;VALUE=DATE-TIME:20190923T063000Z
DTEND;VALUE=DATE-TIME:20190923T071500Z
DTSTAMP;VALUE=DATE-TIME:20240229T211511Z
UID:indico-event-0-0@ictp.it
DESCRIPTION://indico.ictp.it/event/8900/session/0/?slotId=0
LOCATION:ICTP Budinich Lecture Hall (LB)
URL://indico.ictp.it/event/8900/session/0/?slotId=0
END:VEVENT
END:VCALENDAR
