BEGIN:VCALENDAR
VERSION:2.0
PRODID:-//CERN//INDICO//EN
BEGIN:VEVENT
SUMMARY:The point processes at turning points of large lozenge tilings
DTSTART;VALUE=DATE-TIME:20190926T134500Z
DTEND;VALUE=DATE-TIME:20190926T143000Z
DTSTAMP;VALUE=DATE-TIME:20240229T211108Z
UID:indico-contribution-28@ictp.it
DESCRIPTION:Speakers: MKRTCHYAN\, Sevak (University of Rochester\, U.S.A.)
 \n//indico.ictp.it/event/8900/session/10/contribution/28
LOCATION:ICTP Budinich Lecture Hall (LB)
URL://indico.ictp.it/event/8900/session/10/contribution/28
END:VEVENT
END:VCALENDAR
