BEGIN:VCALENDAR
VERSION:2.0
PRODID:-//CERN//INDICO//EN
BEGIN:VEVENT
SUMMARY:Determinantal point processes - I
DTSTART;VALUE=DATE-TIME:20190923T090000Z
DTEND;VALUE=DATE-TIME:20190923T100000Z
DTSTAMP;VALUE=DATE-TIME:20240229T211048Z
UID:indico-contribution-1@ictp.it
DESCRIPTION:Speakers: BUFETOV\, Alexander (Institut de Mathematiques de Ma
 rseille\, France)\n//indico.ictp.it/event/8900/session/2/contribution/1
LOCATION:ICTP Budinich Lecture Hall (LB)
URL://indico.ictp.it/event/8900/session/2/contribution/1
END:VEVENT
END:VCALENDAR
