BEGIN:VCALENDAR
VERSION:2.0
PRODID:-//CERN//INDICO//EN
BEGIN:VEVENT
SUMMARY:Color-position symmetry in interacting particle systems
DTSTART;VALUE=DATE-TIME:20190923T104500Z
DTEND;VALUE=DATE-TIME:20190923T113000Z
DTSTAMP;VALUE=DATE-TIME:20240229T211149Z
UID:indico-contribution-3@ictp.it
DESCRIPTION:Speakers: BUFETOV\, Alexey (University of Bonn\, Germany)\n//i
 ndico.ictp.it/event/8900/session/2/contribution/3
LOCATION:ICTP Budinich Lecture Hall (LB)
URL://indico.ictp.it/event/8900/session/2/contribution/3
END:VEVENT
END:VCALENDAR
