BEGIN:VCALENDAR
VERSION:2.0
PRODID:-//CERN//INDICO//EN
BEGIN:VEVENT
SUMMARY:Asymptoticcs for the lower tail of the KPZ equation
DTSTART;VALUE=DATE-TIME:20190925T101500Z
DTEND;VALUE=DATE-TIME:20190925T110000Z
DTSTAMP;VALUE=DATE-TIME:20240229T211029Z
UID:indico-contribution-18@ictp.it
DESCRIPTION:Speakers: CAFASSO\, Mattia (University of Angers\, France)\n//
 indico.ictp.it/event/8900/session/7/contribution/18
LOCATION:ICTP Budinich Lecture Hall (LB)
URL://indico.ictp.it/event/8900/session/7/contribution/18
END:VEVENT
END:VCALENDAR
