BEGIN:VCALENDAR
VERSION:2.0
PRODID:-//CERN//INDICO//EN
BEGIN:VEVENT
SUMMARY:Random matrices and the uses of Dyson-Schwinger equations - IV
DTSTART;VALUE=DATE-TIME:20190926T080000Z
DTEND;VALUE=DATE-TIME:20190926T090000Z
DTSTAMP;VALUE=DATE-TIME:20240229T211142Z
UID:indico-contribution-24@ictp.it
DESCRIPTION:Speakers: GUIONNET\, Alice ()\n//indico.ictp.it/event/8900/ses
 sion/9/contribution/24
LOCATION:ICTP Budinich Lecture Hall (LB)
URL://indico.ictp.it/event/8900/session/9/contribution/24
END:VEVENT
END:VCALENDAR
