BEGIN:VCALENDAR
VERSION:2.0
PRODID:-//CERN//INDICO//EN
BEGIN:VEVENT
SUMMARY:Experimental upper limits on (ultra) high-frequency gravitational 
 waves and prospects for more: Magnetic conversion detectors and correlated
  interferometry
DTSTART;VALUE=DATE-TIME:20191014T140000Z
DTEND;VALUE=DATE-TIME:20191014T144500Z
DTSTAMP;VALUE=DATE-TIME:20240229T205539Z
UID:indico-contribution-134@ictp.it
DESCRIPTION:Speakers: HARTMUT GROTE (Cardiff University)\n//indico.ictp.it
 /event/9006/session/28/contribution/134
LOCATION:ICTP Adriatico Guest House - Kastler Lecture Hall
URL://indico.ictp.it/event/9006/session/28/contribution/134
END:VEVENT
END:VCALENDAR
