BEGIN:VCALENDAR
VERSION:2.0
PRODID:-//CERN//INDICO//EN
BEGIN:VEVENT
SUMMARY:A pipeline for searching Stochastic Gravitational Wave by Pulsar T
 iming Residuals
DTSTART;VALUE=DATE-TIME:20191015T144000Z
DTEND;VALUE=DATE-TIME:20191015T145000Z
DTSTAMP;VALUE=DATE-TIME:20240229T205601Z
UID:indico-contribution-148@ictp.it
DESCRIPTION:Speakers: SEYED MOHAMMAD SADEGH MOVAHED (Shahid Beheshti Unive
 rsity)\n//indico.ictp.it/event/9006/session/30/contribution/148
LOCATION:ICTP Adriatico Guest House - Kastler Lecture Hall
URL://indico.ictp.it/event/9006/session/30/contribution/148
END:VEVENT
END:VCALENDAR
