BEGIN:VCALENDAR
VERSION:2.0
PRODID:-//CERN//INDICO//EN
BEGIN:VEVENT
SUMMARY:Closing
DTSTART;VALUE=DATE-TIME:20201006T101500Z
DTEND;VALUE=DATE-TIME:20201006T102000Z
DTSTAMP;VALUE=DATE-TIME:20240229T155647Z
UID:indico-contribution-32@ictp.it
DESCRIPTION:Speakers: \n//indico.ictp.it/event/9119/session/3/contribution
 /32
LOCATION:Online -  Online
URL://indico.ictp.it/event/9119/session/3/contribution/32
END:VEVENT
END:VCALENDAR
