BEGIN:VCALENDAR
VERSION:2.0
PRODID:-//CERN//INDICO//EN
BEGIN:VEVENT
SUMMARY:Ab Initio Quantum Dynamics in Nanoscale Materials
DTSTART;VALUE=DATE-TIME:20200928T150000Z
DTEND;VALUE=DATE-TIME:20200928T160000Z
DTSTAMP;VALUE=DATE-TIME:20240229T160026Z
UID:indico-contribution-77@ictp.it
DESCRIPTION:Speakers: OLEG PREZHDO (University of Southern California\, US
 A)\n//indico.ictp.it/event/9408/session/49/contribution/77
LOCATION:Online -  Online
URL://indico.ictp.it/event/9408/session/49/contribution/77
END:VEVENT
END:VCALENDAR
