BEGIN:VCALENDAR
VERSION:2.0
PRODID:-//CERN//INDICO//EN
BEGIN:VEVENT
SUMMARY:Coherent ultrafast charge and energy transfer processes in nanostr
 uctures
DTSTART;VALUE=DATE-TIME:20200929T070000Z
DTEND;VALUE=DATE-TIME:20200929T080000Z
DTSTAMP;VALUE=DATE-TIME:20240229T160041Z
UID:indico-contribution-51-0-80@ictp.it
DESCRIPTION:Speakers: CHRISTOPH LIENAU (University of Oldenburg\, Germany)
 \n//indico.ictp.it/event/9408/session/51/contribution/80
LOCATION:Online -  Online
URL://indico.ictp.it/event/9408/session/51/contribution/80
END:VEVENT
BEGIN:VEVENT
SUMMARY:Searching for the best molecular semiconductors
DTSTART;VALUE=DATE-TIME:20200929T080000Z
DTEND;VALUE=DATE-TIME:20200929T090000Z
DTSTAMP;VALUE=DATE-TIME:20240229T160041Z
UID:indico-contribution-51-0-81@ictp.it
DESCRIPTION:Speakers: ALESSANDRO TROISI (University of Liverpool\, UK)\n//
 indico.ictp.it/event/9408/session/51/contribution/81
LOCATION:Online -  Online
URL://indico.ictp.it/event/9408/session/51/contribution/81
END:VEVENT
END:VCALENDAR
