BEGIN:VCALENDAR
VERSION:2.0
PRODID:-//CERN//INDICO//EN
BEGIN:VEVENT
SUMMARY:Questions and Answers Session 5
DTSTART;VALUE=DATE-TIME:20200930T150000Z
DTEND;VALUE=DATE-TIME:20200930T160000Z
DTSTAMP;VALUE=DATE-TIME:20240229T160015Z
UID:indico-contribution-88@ictp.it
DESCRIPTION:Speakers: ANDREA MARINI (CNR\, Italy)\n//indico.ictp.it/event/
 9408/session/57/contribution/88
LOCATION:Online -  Online
URL://indico.ictp.it/event/9408/session/57/contribution/88
END:VEVENT
END:VCALENDAR
