BEGIN:VCALENDAR
VERSION:2.0
PRODID:-//CERN//INDICO//EN
BEGIN:VEVENT
SUMMARY:Welcome & Instructions by the Organizers
DTSTART;VALUE=DATE-TIME:20200824T105000Z
DTEND;VALUE=DATE-TIME:20200824T110000Z
DTSTAMP;VALUE=DATE-TIME:20240229T164926Z
UID:indico-contribution-140-0-562@ictp.it
DESCRIPTION:Speakers: \n//indico.ictp.it/event/9424/session/140/contributi
 on/562
LOCATION:Zoom Meeting ZOOM
URL://indico.ictp.it/event/9424/session/140/contribution/562
END:VEVENT
BEGIN:VEVENT
SUMMARY:Three avatars of Mock Modularity (Part I) - Lecture 1
DTSTART;VALUE=DATE-TIME:20200824T110000Z
DTEND;VALUE=DATE-TIME:20200824T120000Z
DTSTAMP;VALUE=DATE-TIME:20240229T164926Z
UID:indico-contribution-140-0-563@ictp.it
DESCRIPTION:Speakers: ATISH DABHOLKAR (ICTP)\n//indico.ictp.it/event/9424/
 session/140/contribution/563
LOCATION:Zoom Meeting ZOOM
URL://indico.ictp.it/event/9424/session/140/contribution/563
END:VEVENT
BEGIN:VEVENT
SUMMARY:Quantum Black Holes - Lecture 1
DTSTART;VALUE=DATE-TIME:20200824T121500Z
DTEND;VALUE=DATE-TIME:20200824T131500Z
DTSTAMP;VALUE=DATE-TIME:20240229T164926Z
UID:indico-contribution-140-0-564@ictp.it
DESCRIPTION:Speakers: AHMED ALMHEIRI (IAS\, Princeton)\n//indico.ictp.it/e
 vent/9424/session/140/contribution/564
LOCATION:Zoom Meeting ZOOM
URL://indico.ictp.it/event/9424/session/140/contribution/564
END:VEVENT
BEGIN:VEVENT
SUMMARY:More on quantum black holes - Lecture 1
DTSTART;VALUE=DATE-TIME:20200824T150000Z
DTEND;VALUE=DATE-TIME:20200824T160000Z
DTSTAMP;VALUE=DATE-TIME:20240229T164926Z
UID:indico-contribution-140-0-565@ictp.it
DESCRIPTION:Speakers: DOUGLAS STANFORD (Stanford)\n//indico.ictp.it/event/
 9424/session/140/contribution/565
LOCATION:Zoom Meeting ZOOM
URL://indico.ictp.it/event/9424/session/140/contribution/565
END:VEVENT
BEGIN:VEVENT
SUMMARY:TUTORIAL on Mock Modularity (Part I)
DTSTART;VALUE=DATE-TIME:20200824T161500Z
DTEND;VALUE=DATE-TIME:20200824T170000Z
DTSTAMP;VALUE=DATE-TIME:20240229T164926Z
UID:indico-contribution-140-0-566@ictp.it
DESCRIPTION:Speakers: ATISH DABHOLKAR (ICTP)\n(not LiveStreamed on YouTube
 )\n\n//indico.ictp.it/event/9424/session/140/contribution/566
LOCATION:Zoom Meeting ZOOM
URL://indico.ictp.it/event/9424/session/140/contribution/566
END:VEVENT
END:VCALENDAR
