BEGIN:VCALENDAR
VERSION:2.0
PRODID:-//CERN//INDICO//EN
BEGIN:VEVENT
SUMMARY:TUTORIAL on Generalized Global Symmetry and Anomalies
DTSTART;VALUE=DATE-TIME:20200904T171500Z
DTEND;VALUE=DATE-TIME:20200904T180000Z
DTSTAMP;VALUE=DATE-TIME:20240229T164856Z
UID:indico-contribution-601@ictp.it
DESCRIPTION:Speakers: CLAY CÓRDOVA - GROUP A / KANTARO OHMORI - GROUP B (
 University of Chicago / Simons Center for Geometry and Physics)\nTwo Separ
 ete Rooms: Group A & Group B\n(not LiveStreamed on YouTube)\n\n//indico.ic
 tp.it/event/9424/session/149/contribution/601
LOCATION:Zoom Meeting ZOOM
URL://indico.ictp.it/event/9424/session/149/contribution/601
END:VEVENT
END:VCALENDAR
