BEGIN:VCALENDAR
VERSION:2.0
PRODID:-//CERN//INDICO//EN
BEGIN:VEVENT
SUMMARY:LIQUID METALS - EFFECTIVE INTERACTIONS AND GAS THEORY\; THERMODYNA
 MIC OF SIMPLE LIQUID METALS AND THE FREEZING TRANSITION
DTSTART;VALUE=DATE-TIME:19840820T070000Z
DTEND;VALUE=DATE-TIME:19840820T070000Z
DTSTAMP;VALUE=DATE-TIME:20240229T174621Z
UID:indico-contribution-10-0-10@ictp.it
DESCRIPTION:Speakers: M. TOSI ()\n//indico.ictp.it/event/a0240/session/10/
 contribution/10
LOCATION:ICTP 0--
URL://indico.ictp.it/event/a0240/session/10/contribution/10
END:VEVENT
END:VCALENDAR
