BEGIN:VCALENDAR
VERSION:2.0
PRODID:-//CERN//INDICO//EN
BEGIN:VEVENT
SUMMARY:POLYMORPHIC TRANSITIONS III:Mineralogy and petrology of the Earth'
 s mantel
DTSTART;VALUE=DATE-TIME:19840820T070000Z
DTEND;VALUE=DATE-TIME:19840820T070000Z
DTSTAMP;VALUE=DATE-TIME:20240229T174554Z
UID:indico-contribution-4-0-4@ictp.it
DESCRIPTION:Speakers: A.B. THOMPSON ()\n//indico.ictp.it/event/a0240/sessi
 on/4/contribution/4
LOCATION:ICTP 0--
URL://indico.ictp.it/event/a0240/session/4/contribution/4
END:VEVENT
END:VCALENDAR
