BEGIN:VCALENDAR
VERSION:2.0
PRODID:-//CERN//INDICO//EN
BEGIN:VEVENT
SUMMARY:Altera-MDEC FPGA Education Launch
DTSTART;VALUE=DATE-TIME:20080616T073000Z
DTEND;VALUE=DATE-TIME:20080616T081500Z
DTSTAMP;VALUE=DATE-TIME:20240229T161957Z
UID:indico-contribution-1@ictp.it
DESCRIPTION:Speakers: \n//indico.ictp.it/event/a07186/session/1/contributi
 on/1
LOCATION:Kuala Lumpur - Malaysia
URL://indico.ictp.it/event/a07186/session/1/contribution/1
END:VEVENT
END:VCALENDAR
