BEGIN:VCALENDAR
VERSION:2.0
PRODID:-//CERN//INDICO//EN
BEGIN:VEVENT
SUMMARY:Laboratory Session. Implementation on the FPGA Development Platfor
 m. Digital Arithmetic (cont.)
DTSTART;VALUE=DATE-TIME:20080630T130000Z
DTEND;VALUE=DATE-TIME:20080630T140000Z
DTSTAMP;VALUE=DATE-TIME:20240229T162114Z
UID:indico-contribution-101-0-58@ictp.it
DESCRIPTION:Speakers: MARIA LIZ CRESPO ()\n//indico.ictp.it/event/a07186/s
 ession/101/contribution/58
LOCATION:Kuala Lumpur - Malaysia
URL://indico.ictp.it/event/a07186/session/101/contribution/58
END:VEVENT
END:VCALENDAR
