BEGIN:VCALENDAR
VERSION:2.0
PRODID:-//CERN//INDICO//EN
BEGIN:VEVENT
SUMMARY:Introduction to Digital Design (Boolean logic)
DTSTART;VALUE=DATE-TIME:20080616T160000Z
DTEND;VALUE=DATE-TIME:20080616T170000Z
DTSTAMP;VALUE=DATE-TIME:20240229T162121Z
UID:indico-contribution-11-0-7@ictp.it
DESCRIPTION:Speakers: PIROUZ BAZARGAN-SABET ()\n//indico.ictp.it/event/a07
 186/session/11/contribution/7
LOCATION:Kuala Lumpur - Malaysia
URL://indico.ictp.it/event/a07186/session/11/contribution/7
END:VEVENT
END:VCALENDAR
