BEGIN:VCALENDAR
VERSION:2.0
PRODID:-//CERN//INDICO//EN
BEGIN:VEVENT
SUMMARY:Reconfigurable Virtual Instrumentation (RVI) based on FPGA (cont.)
DTSTART;VALUE=DATE-TIME:20080701T130000Z
DTEND;VALUE=DATE-TIME:20080701T140000Z
DTSTAMP;VALUE=DATE-TIME:20240229T161203Z
UID:indico-contribution-110-0-63@ictp.it
DESCRIPTION:Speakers: ANDRES CICUTTIN ()\n//indico.ictp.it/event/a07186/se
 ssion/110/contribution/63
LOCATION:Kuala Lumpur - Malaysia
URL://indico.ictp.it/event/a07186/session/110/contribution/63
END:VEVENT
END:VCALENDAR
