BEGIN:VCALENDAR
VERSION:2.0
PRODID:-//CERN//INDICO//EN
BEGIN:VEVENT
SUMMARY:Two-dimensional digital signal processing II. Three-dimensional de
 convolution in FPGA I
DTSTART;VALUE=DATE-TIME:20080703T073000Z
DTEND;VALUE=DATE-TIME:20080703T083000Z
DTSTAMP;VALUE=DATE-TIME:20240229T161529Z
UID:indico-contribution-70@ictp.it
DESCRIPTION:Speakers: FABIO MAMMANO ()\n//indico.ictp.it/event/a07186/sess
 ion/123/contribution/70
LOCATION:Kuala Lumpur - Malaysia
URL://indico.ictp.it/event/a07186/session/123/contribution/70
END:VEVENT
END:VCALENDAR
