BEGIN:VCALENDAR
VERSION:2.0
PRODID:-//CERN//INDICO//EN
BEGIN:VEVENT
SUMMARY:Synthesis II - Introduction to VHDL
DTSTART;VALUE=DATE-TIME:20080617T100000Z
DTEND;VALUE=DATE-TIME:20080617T110000Z
DTSTAMP;VALUE=DATE-TIME:20240229T162311Z
UID:indico-contribution-10@ictp.it
DESCRIPTION:Speakers: NIZAR ABDALLAH ()\n//indico.ictp.it/event/a07186/ses
 sion/16/contribution/10
LOCATION:Kuala Lumpur - Malaysia
URL://indico.ictp.it/event/a07186/session/16/contribution/10
END:VEVENT
END:VCALENDAR
