BEGIN:VCALENDAR
VERSION:2.0
PRODID:-//CERN//INDICO//EN
BEGIN:VEVENT
SUMMARY:Laboratory Session. Digital Design and Implementation on FPGA Usin
 g Mentor Graphics\\' FPGA Advantage
DTSTART;VALUE=DATE-TIME:20080709T143000Z
DTEND;VALUE=DATE-TIME:20080709T160000Z
DTSTAMP;VALUE=DATE-TIME:20240229T162435Z
UID:indico-contribution-91@ictp.it
DESCRIPTION:Speakers: CHOONG YEE LEE ()\n//indico.ictp.it/event/a07186/ses
 sion/163/contribution/91
LOCATION:Kuala Lumpur - Malaysia
URL://indico.ictp.it/event/a07186/session/163/contribution/91
END:VEVENT
END:VCALENDAR
