BEGIN:VCALENDAR
VERSION:2.0
PRODID:-//CERN//INDICO//EN
BEGIN:VEVENT
SUMMARY:SYNOPSIS Representative: Variation Aware Static Timing Analysis fo
 r sub-65nm ASIC Design
DTSTART;VALUE=DATE-TIME:20080711T073000Z
DTEND;VALUE=DATE-TIME:20080711T083000Z
DTSTAMP;VALUE=DATE-TIME:20240229T162153Z
UID:indico-contribution-174-0-97@ictp.it
DESCRIPTION:Speakers: \n//indico.ictp.it/event/a07186/session/174/contribu
 tion/97
LOCATION:Kuala Lumpur - Malaysia
URL://indico.ictp.it/event/a07186/session/174/contribution/97
END:VEVENT
END:VCALENDAR
