BEGIN:VCALENDAR
VERSION:2.0
PRODID:-//CERN//INDICO//EN
BEGIN:VEVENT
SUMMARY:Digital Design I (combinatorial elements)
DTSTART;VALUE=DATE-TIME:20080617T143000Z
DTEND;VALUE=DATE-TIME:20080617T153000Z
DTSTAMP;VALUE=DATE-TIME:20240229T161907Z
UID:indico-contribution-12@ictp.it
DESCRIPTION:Speakers: PIROUZ BAZARGAN-SABET ()\n//indico.ictp.it/event/a07
 186/session/20/contribution/12
LOCATION:Kuala Lumpur - Malaysia
URL://indico.ictp.it/event/a07186/session/20/contribution/12
END:VEVENT
END:VCALENDAR
