BEGIN:VCALENDAR
VERSION:2.0
PRODID:-//CERN//INDICO//EN
BEGIN:VEVENT
SUMMARY:(LiberoTM IDE) Functional Simulation. Synthesis
DTSTART;VALUE=DATE-TIME:20080618T073000Z
DTEND;VALUE=DATE-TIME:20080618T083000Z
DTSTAMP;VALUE=DATE-TIME:20240229T161722Z
UID:indico-contribution-14@ictp.it
DESCRIPTION:Speakers: NIZAR ABDALLAH ()\n//indico.ictp.it/event/a07186/ses
 sion/23/contribution/14
LOCATION:Kuala Lumpur - Malaysia
URL://indico.ictp.it/event/a07186/session/23/contribution/14
END:VEVENT
END:VCALENDAR
