BEGIN:VCALENDAR
VERSION:2.0
PRODID:-//CERN//INDICO//EN
BEGIN:VEVENT
SUMMARY:Laboratory Session. VHDL Behavioral Description and Simulation of 
 Combinational Circuits. Contd.
DTSTART;VALUE=DATE-TIME:20080619T143000Z
DTEND;VALUE=DATE-TIME:20080619T170000Z
DTSTAMP;VALUE=DATE-TIME:20240229T161641Z
UID:indico-contribution-23@ictp.it
DESCRIPTION:Speakers: MARIA LIZ CRESPO ()\n//indico.ictp.it/event/a07186/s
 ession/39/contribution/23
LOCATION:Kuala Lumpur - Malaysia
URL://indico.ictp.it/event/a07186/session/39/contribution/23
END:VEVENT
END:VCALENDAR
