BEGIN:VCALENDAR
VERSION:2.0
PRODID:-//CERN//INDICO//EN
BEGIN:VEVENT
SUMMARY:Laboratory Session. VHDL Behavioral Description and Simulation of 
 Sequential Circuits
DTSTART;VALUE=DATE-TIME:20080620T130000Z
DTEND;VALUE=DATE-TIME:20080620T140000Z
DTSTAMP;VALUE=DATE-TIME:20240229T161854Z
UID:indico-contribution-27@ictp.it
DESCRIPTION:Speakers: MARIA LIZ CRESPO ()\n//indico.ictp.it/event/a07186/s
 ession/46/contribution/27
LOCATION:Kuala Lumpur - Malaysia
URL://indico.ictp.it/event/a07186/session/46/contribution/27
END:VEVENT
END:VCALENDAR
