BEGIN:VCALENDAR
VERSION:2.0
PRODID:-//CERN//INDICO//EN
BEGIN:VEVENT
SUMMARY:Opening Ceremony
DTSTART;VALUE=DATE-TIME:20080616T094500Z
DTEND;VALUE=DATE-TIME:20080616T110000Z
DTSTAMP;VALUE=DATE-TIME:20240229T162429Z
UID:indico-contribution-5-0-3@ictp.it
DESCRIPTION:Speakers: \n//indico.ictp.it/event/a07186/session/5/contributi
 on/3
LOCATION:Kuala Lumpur - Malaysia
URL://indico.ictp.it/event/a07186/session/5/contribution/3
END:VEVENT
END:VCALENDAR
