BEGIN:VCALENDAR
VERSION:2.0
PRODID:-//CERN//INDICO//EN
BEGIN:VEVENT
SUMMARY:Laboratory Session. Parking Lot: VHDL Description\, Simulation\, S
 ynthesis and Post-Synthesis Simulation
DTSTART;VALUE=DATE-TIME:20080623T153000Z
DTEND;VALUE=DATE-TIME:20080623T170000Z
DTSTAMP;VALUE=DATE-TIME:20240229T161807Z
UID:indico-contribution-58-0-34@ictp.it
DESCRIPTION:Speakers: MARIA LIZ CRESPO ()\n//indico.ictp.it/event/a07186/s
 ession/58/contribution/34
LOCATION:Kuala Lumpur - Malaysia
URL://indico.ictp.it/event/a07186/session/58/contribution/34
END:VEVENT
END:VCALENDAR
