BEGIN:VCALENDAR
VERSION:2.0
PRODID:-//CERN//INDICO//EN
BEGIN:VEVENT
SUMMARY:Laboratory Session. Hardware Description of the FPGA Development P
 latform. FPGA Implementation Example.
DTSTART;VALUE=DATE-TIME:20080624T153000Z
DTEND;VALUE=DATE-TIME:20080624T180000Z
DTSTAMP;VALUE=DATE-TIME:20240229T161534Z
UID:indico-contribution-68-0-40@ictp.it
DESCRIPTION:Speakers: CARLOS SOSA PAEZ ()\n//indico.ictp.it/event/a07186/s
 ession/68/contribution/40
LOCATION:Kuala Lumpur - Malaysia
URL://indico.ictp.it/event/a07186/session/68/contribution/40
END:VEVENT
END:VCALENDAR
