BEGIN:VCALENDAR
VERSION:2.0
PRODID:-//CERN//INDICO//EN
BEGIN:VEVENT
SUMMARY:Introduction to Fourier Theory
DTSTART;VALUE=DATE-TIME:20080626T073000Z
DTEND;VALUE=DATE-TIME:20080626T083000Z
DTSTAMP;VALUE=DATE-TIME:20240229T161728Z
UID:indico-contribution-46@ictp.it
DESCRIPTION:Speakers: MARCELO MAGNASCO ()\n//indico.ictp.it/event/a07186/s
 ession/79/contribution/46
LOCATION:Kuala Lumpur - Malaysia
URL://indico.ictp.it/event/a07186/session/79/contribution/46
END:VEVENT
END:VCALENDAR
