BEGIN:VCALENDAR
VERSION:2.0
PRODID:-//CERN//INDICO//EN
BEGIN:VEVENT
SUMMARY:Introduction to Digital Signal Processing
DTSTART;VALUE=DATE-TIME:20080627T073000Z
DTEND;VALUE=DATE-TIME:20080627T083000Z
DTSTAMP;VALUE=DATE-TIME:20240229T162004Z
UID:indico-contribution-88-0-51@ictp.it
DESCRIPTION:Speakers: MARCELO MAGNASCO ()\n//indico.ictp.it/event/a07186/s
 ession/88/contribution/51
LOCATION:Kuala Lumpur - Malaysia
URL://indico.ictp.it/event/a07186/session/88/contribution/51
END:VEVENT
END:VCALENDAR
