BEGIN:VCALENDAR
VERSION:2.0
PRODID:-//CERN//INDICO//EN
BEGIN:VEVENT
SUMMARY:Digital Signal Processing I
DTSTART;VALUE=DATE-TIME:20080627T090000Z
DTEND;VALUE=DATE-TIME:20080627T110000Z
DTSTAMP;VALUE=DATE-TIME:20240229T162308Z
UID:indico-contribution-52@ictp.it
DESCRIPTION:Speakers: MARCELO MAGNASCO ()\n//indico.ictp.it/event/a07186/s
 ession/90/contribution/52
LOCATION:Kuala Lumpur - Malaysia
URL://indico.ictp.it/event/a07186/session/90/contribution/52
END:VEVENT
END:VCALENDAR
