BEGIN:VCALENDAR
VERSION:2.0
PRODID:-//CERN//INDICO//EN
BEGIN:VEVENT
SUMMARY:Laboratory Session. Implementation in the FPGA Development Platfor
 m. VHDL Package and Structural Design.
DTSTART;VALUE=DATE-TIME:20080627T130000Z
DTEND;VALUE=DATE-TIME:20080627T140000Z
DTSTAMP;VALUE=DATE-TIME:20240229T162327Z
UID:indico-contribution-53@ictp.it
DESCRIPTION:Speakers: MARIA LIZ CRESPO ()\n//indico.ictp.it/event/a07186/s
 ession/92/contribution/53
LOCATION:Kuala Lumpur - Malaysia
URL://indico.ictp.it/event/a07186/session/92/contribution/53
END:VEVENT
END:VCALENDAR
