BEGIN:VCALENDAR
VERSION:2.0
PRODID:-//CERN//INDICO//EN
BEGIN:VEVENT
SUMMARY:Sampling marine sediments: strategy and methods\, equipments and a
 rtifacts
DTSTART;VALUE=DATE-TIME:20080528T090000Z
DTEND;VALUE=DATE-TIME:20080528T100000Z
DTSTAMP;VALUE=DATE-TIME:20240229T155213Z
UID:indico-contribution-13@ictp.it
DESCRIPTION:Speakers: CARLO PAPUCCI (ENEA-SANTA TERESA\, La Spezia\, Italy
 )\n//indico.ictp.it/event/a07220/session/18/contribution/13
LOCATION:Cienfuegos - Cuba
URL://indico.ictp.it/event/a07220/session/18/contribution/13
END:VEVENT
END:VCALENDAR
