BEGIN:VCALENDAR
VERSION:2.0
PRODID:-//CERN//INDICO//EN
BEGIN:VEVENT
SUMMARY:Up-to-date marine technologies applied to coastal studies
DTSTART;VALUE=DATE-TIME:20080529T123000Z
DTEND;VALUE=DATE-TIME:20080529T133000Z
DTSTAMP;VALUE=DATE-TIME:20240229T155139Z
UID:indico-contribution-21@ictp.it
DESCRIPTION:Speakers: PIERRE M. POULAIN (OGS\, Trieste\, Italy)\n//indico.
 ictp.it/event/a07220/session/29/contribution/21
LOCATION:Cienfuegos - Cuba
URL://indico.ictp.it/event/a07220/session/29/contribution/21
END:VEVENT
END:VCALENDAR
