BEGIN:VCALENDAR
VERSION:2.0
PRODID:-//CERN//INDICO//EN
BEGIN:VEVENT
SUMMARY:Remote sensing technique in coastal studies: present and future
DTSTART;VALUE=DATE-TIME:20080529T143000Z
DTEND;VALUE=DATE-TIME:20080529T153000Z
DTSTAMP;VALUE=DATE-TIME:20240229T155328Z
UID:indico-contribution-31-0-23@ictp.it
DESCRIPTION:Speakers: ELENA MAURI (OGS\, Trieste\, Italy)\n//indico.ictp.i
 t/event/a07220/session/31/contribution/23
LOCATION:Cienfuegos - Cuba
URL://indico.ictp.it/event/a07220/session/31/contribution/23
END:VEVENT
END:VCALENDAR
