BEGIN:VCALENDAR
VERSION:2.0
PRODID:-//CERN//INDICO//EN
BEGIN:VEVENT
SUMMARY:Application of natural radium isotopes and radon to assess submari
 ne groundwater discharge and coastal water mixing rates
DTSTART;VALUE=DATE-TIME:20080530T070000Z
DTEND;VALUE=DATE-TIME:20080530T083000Z
DTSTAMP;VALUE=DATE-TIME:20240229T155230Z
UID:indico-contribution-24@ictp.it
DESCRIPTION:Speakers: JOSELENE DE OLIVEIRA (IPEN\, Sao Paulo\, Brazil)\n//
 indico.ictp.it/event/a07220/session/32/contribution/24
LOCATION:Cienfuegos - Cuba
URL://indico.ictp.it/event/a07220/session/32/contribution/24
END:VEVENT
END:VCALENDAR
