BEGIN:VCALENDAR
VERSION:2.0
PRODID:-//CERN//INDICO//EN
BEGIN:VEVENT
SUMMARY:Long-term observations in coastal areas: a key tool for detecting 
 changes
DTSTART;VALUE=DATE-TIME:20080530T100000Z
DTEND;VALUE=DATE-TIME:20080530T110000Z
DTSTAMP;VALUE=DATE-TIME:20240229T155155Z
UID:indico-contribution-26@ictp.it
DESCRIPTION:Speakers: MAURIZIO RIBERA D’ALCALÀ (Stazione Zoologica Anto
 n Dohrn\, Naples\, Italy)\n//indico.ictp.it/event/a07220/session/35/contri
 bution/26
LOCATION:Cienfuegos - Cuba
URL://indico.ictp.it/event/a07220/session/35/contribution/26
END:VEVENT
END:VCALENDAR
