BEGIN:VCALENDAR
VERSION:2.0
PRODID:-//CERN//INDICO//EN
BEGIN:VEVENT
SUMMARY:Coffee break
DTSTART;VALUE=DATE-TIME:20080605T083000Z
DTEND;VALUE=DATE-TIME:20080605T090000Z
DTSTAMP;VALUE=DATE-TIME:20240229T160152Z
UID:indico-event-50-0@ictp.it
DESCRIPTION://indico.ictp.it/event/a07220/session/50/?slotId=0
LOCATION:Cienfuegos - Cuba
URL://indico.ictp.it/event/a07220/session/50/?slotId=0
END:VEVENT
END:VCALENDAR
