BEGIN:VCALENDAR
VERSION:2.0
PRODID:-//CERN//INDICO//EN
BEGIN:VEVENT
SUMMARY:Closing session
DTSTART;VALUE=DATE-TIME:20080606T123000Z
DTEND;VALUE=DATE-TIME:20080606T143000Z
DTSTAMP;VALUE=DATE-TIME:20240229T155421Z
UID:indico-contribution-41@ictp.it
DESCRIPTION:Speakers: \n//indico.ictp.it/event/a07220/session/58/contribut
 ion/41
LOCATION:Cienfuegos - Cuba
URL://indico.ictp.it/event/a07220/session/58/contribution/41
END:VEVENT
END:VCALENDAR
