BEGIN:VCALENDAR
VERSION:2.0
PRODID:-//CERN//INDICO//EN
BEGIN:VEVENT
SUMMARY:Radioactive tracers for oceanic processes: potentiality & examples
 \, in a climatic context
DTSTART;VALUE=DATE-TIME:20080527T070000Z
DTEND;VALUE=DATE-TIME:20080527T083000Z
DTSTAMP;VALUE=DATE-TIME:20240229T155205Z
UID:indico-contribution-6@ictp.it
DESCRIPTION:Speakers: ROBERTA DELFANTI (ENEA-SANTA TERESA\, La Spezia\, It
 aly)\n//indico.ictp.it/event/a07220/session/8/contribution/6
LOCATION:Cienfuegos - Cuba
URL://indico.ictp.it/event/a07220/session/8/contribution/6
END:VEVENT
END:VCALENDAR
