BEGIN:VCALENDAR
VERSION:2.0
PRODID:-//CERN//INDICO//EN
BEGIN:VEVENT
SUMMARY:Coffee break and Posters
DTSTART;VALUE=DATE-TIME:20090624T080000Z
DTEND;VALUE=DATE-TIME:20090624T083000Z
DTSTAMP;VALUE=DATE-TIME:20240229T170251Z
UID:indico-event-24-0@ictp.it
DESCRIPTION://indico.ictp.it/event/a08194/session/24/?slotId=0
LOCATION:Antioquia - Colombia
URL://indico.ictp.it/event/a08194/session/24/?slotId=0
END:VEVENT
END:VCALENDAR
