BEGIN:VCALENDAR
VERSION:2.0
PRODID:-//CERN//INDICO//EN
BEGIN:VEVENT
SUMMARY:Lunch break
DTSTART;VALUE=DATE-TIME:20090626T100000Z
DTEND;VALUE=DATE-TIME:20090626T120000Z
DTSTAMP;VALUE=DATE-TIME:20240229T170253Z
UID:indico-event-49-0@ictp.it
DESCRIPTION://indico.ictp.it/event/a08194/session/49/?slotId=0
LOCATION:Antioquia - Colombia
URL://indico.ictp.it/event/a08194/session/49/?slotId=0
END:VEVENT
END:VCALENDAR
